BEGIN:VCALENDAR
VERSION:2.0
PRODID:-//ChamberMaster//Event Calendar 2.0//EN
METHOD:PUBLISH
X-PUBLISHED-TTL:P3D
REFRESH-INTERVAL:P3D
CALSCALE:GREGORIAN
BEGIN:VEVENT
DTSTART:20120222T150000Z
DTEND:20120222T170000Z
X-MICROSOFT-CDO-ALLDAYEVENT:FALSE
SUMMARY:Small Businesses Prepare for Tax Season Seminar
DESCRIPTION:To help business owners prepare for the tax season\, Long Chilton\, LLP will present a free tax seminar for small businesses on February 22 from 9:00 am to 11:00 am at the Harlingen Chamber.\n \n"Tax Tips for Small Businesses\," a seminarsponsored by the Chamber as well as the UTPA Small Business Development Center (SBDC)\, teaches business owners how to better manage their small business expenses when filing their taxes.  A tax expert from Long Chilton\, LLP will be on hand to answer questions from small business owners.   \n \n"It's tax time again\, and many business owners may have concerns over small business expenses.  Minimizing tax liabilities and taking advantage of tax incentives are vitally crucial to business success\, especially for the small business owner. This is an opportune time to ask questions from a tax expert\," encourages Cristina Cantu\, SBDC Business Advisor.\n \nPre-registration is required to secure a seat. To register for this seminar\, call the Harlingen Chamber at (956) 423-5440. \n \nThe UTPA SBDC\, a component of the Business Development & Innovation Group\, offers confidential one-on-one counseling\, assistance in business plan development\, and business training on a variety of business topics. Its main office is located at 1407 E. Freddy Gonzalez Drive\, Suite 1.200\, in Edinburg. Please call for more information (956) 665-7535.
X-ALT-DESC;FMTTYPE=text/html:To help business owners prepare for the tax season\, Long Chilton\, LLP will present a free tax seminar for small businesses on February 22 from 9:00 am to 11:00 am at the Harlingen Chamber.\n \n"Tax Tips for Small Businesses\," a seminarsponsored by the Chamber as well as the UTPA Small Business Development Center (SBDC)\, teaches business owners how to better manage their small business expenses when filing their taxes.  A tax expert from Long Chilton\, LLP will be on hand to answer questions from small business owners.   \n \n"It's tax time again\, and many business owners may have concerns over small business expenses.  Minimizing tax liabilities and taking advantage of tax incentives are vitally crucial to business success\, especially for the small business owner. This is an opportune time to ask questions from a tax expert\," encourages Cristina Cantu\, SBDC Business Advisor.\n \nPre-registration is required to secure a seat. To register for this seminar\, call the Harlingen Chamber at (956) 423-5440. \n \nThe UTPA SBDC\, a component of the Business Development & Innovation Group\, offers confidential one-on-one counseling\, assistance in business plan development\, and business training on a variety of business topics. Its main office is located at 1407 E. Freddy Gonzalez Drive\, Suite 1.200\, in Edinburg. Please call for more information (956) 665-7535.\n \n\n
LOCATION:
UID:e.1828.3408
SEQUENCE:3
DTSTAMP:20260420T200818Z
URL:https://business.harlingen.com/events/details/small-businesses-prepare-for-tax-season-seminar-02-22-2012-3408
END:VEVENT

END:VCALENDAR
