BEGIN:VCALENDAR
VERSION:2.0
PRODID:-//ChamberMaster//Event Calendar 2.0//EN
METHOD:PUBLISH
X-PUBLISHED-TTL:P3D
REFRESH-INTERVAL:P3D
CALSCALE:GREGORIAN
BEGIN:VEVENT
DTSTART:20120306T190000Z
DTEND:20120306T220000Z
X-MICROSOFT-CDO-ALLDAYEVENT:FALSE
SUMMARY:SMSDC is hosting a Certification Workshop
DESCRIPTION:Certificates needed to sell to Federal Government\, Corporate America and State of Texas.\n\nThe contact for this seminar is:\nMaggie Trevino\nBusiness Development\nSouth Texas Service Area Specialist\nSouthwest Minority Supplier Development Council\n105 E. Jackson Ste B|Harlingen\, Texas  78550| O: 956-425-7048\nC: 956-454-4169\nWith offices in Austin\, El Paso & San Antonio\nRegister at www.smsdc.org
X-ALT-DESC;FMTTYPE=text/html:Certificates needed to sell to Federal Government\, Corporate America and State of Texas.\n\nThe contact for this seminar is:\nMaggie Trevino\nBusiness Development\nSouth Texas Service Area Specialist\nSouthwest Minority Supplier Development Council\n105 E. Jackson Ste B|Harlingen\, Texas  78550| O: 956-425-7048\nC: 956-454-4169\nWith offices in Austin\, El Paso & San Antonio\nRegister at www.smsdc.org \n
LOCATION:
UID:e.1828.3415
SEQUENCE:3
DTSTAMP:20260420T181603Z
URL:https://business.harlingen.com/events/details/smsdc-is-hosting-a-certification-workshop-03-06-2012-3415
END:VEVENT

END:VCALENDAR
