BEGIN:VCALENDAR
VERSION:2.0
PRODID:-//ChamberMaster//Event Calendar 2.0//EN
METHOD:PUBLISH
X-PUBLISHED-TTL:P3D
REFRESH-INTERVAL:P3D
CALSCALE:GREGORIAN
BEGIN:VEVENT
DTSTART:20100915T140000Z
DTEND:20100915T183000Z
X-MICROSOFT-CDO-ALLDAYEVENT:FALSE
SUMMARY:Social Media Conference
DESCRIPTION:Conference goals are to provide a clear sense of direction regarding social media.  Identify different social media outlets and help the nonprofit sector learn which better suits their outreach goals (e.g. Facebook\, Twitter\, Myspace\, Youtube\, etc.).  Empower nonprofits to use Social Media to increase audience outreach\, reaching more audience/volunteers/donors.  Participants include leaders\, staff and volunteers from government\, municipalities\, higher education\, K-12 education\, 501c3 nonprofit organizations\, community groups\, economic development corporations\, health care entities\, faith-based organizations\, and chambers of commerce.  State Rep. Veronica Gonzalez and State Rep. Aaron Peña will share insight as to how social media is revolutionizing the outreach of nonprofits and legislators and how each have incorporated this practice into their strategic campaigning to respective constituents.  Registration deadline is September 13\, 2010.  The conference is FREE\, however seating is limited.  Call 956-665-7566 today to register\, or visit the website at www.http://ce.utpa.edu/sbnrc.  PLEASE LIMIT 2 REGISTRATIONS PER ORGANIZATION.
X-ALT-DESC;FMTTYPE=text/html:Conference goals are to provide a clear sense of direction regarding social media.  Identify different social media outlets and help the nonprofit sector learn which better suits their outreach goals (e.g. Facebook\, Twitter\, Myspace\, Youtube\, etc.).  Empower nonprofits to use Social Media to increase audience outreach\, reaching more audience/volunteers/donors.  Participants include leaders\, staff and volunteers from government\, municipalities\, higher education\, K-12 education\, 501c3 nonprofit organizations\, community groups\, economic development corporations\, health care entities\, faith-based organizations\, and chambers of commerce.  State Rep. Veronica Gonzalez and State Rep. Aaron Peña will share insight as to how social media is revolutionizing the outreach of nonprofits and legislators and how each have incorporated this practice into their strategic campaigning to respective constituents.  Registration deadline is September 13\, 2010.  The conference is FREE\, however seating is limited.  Call 956-665-7566 today to register\, or visit the website at www.http://ce.utpa.edu/sbnrc.  PLEASE LIMIT 2 REGISTRATIONS PER ORGANIZATION.  \n
LOCATION:
UID:e.1828.2734
SEQUENCE:3
DTSTAMP:20260421T223114Z
URL:https://business.harlingen.com/events/details/social-media-conference-09-15-2010-2734
END:VEVENT

END:VCALENDAR
