BEGIN:VCALENDAR
VERSION:2.0
PRODID:-//ChamberMaster//Event Calendar 2.0//EN
METHOD:PUBLISH
X-PUBLISHED-TTL:P3D
REFRESH-INTERVAL:P3D
CALSCALE:GREGORIAN
BEGIN:VEVENT
DTSTART:20210527T140000Z
DTEND:20210527T230000Z
X-MICROSOFT-CDO-ALLDAYEVENT:FALSE
SUMMARY:SOG International Job Fair
DESCRIPTION:This event is the perfect opportunity to explore career paths and establish professional relationships!\n\n\n\nBoots are available for your organization!\n\n\n\nContact SOG at (956) 300-7644
X-ALT-DESC;FMTTYPE=text/html:This event is the perfect opportunity to explore career paths and establish professional relationships!<br />\n<br />\nBoots are available for your organization!<br />\n<br />\nContact SOG at (956) 300-7644
LOCATION:221 E Van Buren Ave.\, Harlingen
UID:e.1828.16575
SEQUENCE:3
DTSTAMP:20260419T175520Z
URL:https://business.harlingen.com/events/details/sog-international-job-fair-16575
END:VEVENT

END:VCALENDAR
