BEGIN:VCALENDAR
VERSION:2.0
PRODID:-//ChamberMaster//Event Calendar 2.0//EN
METHOD:PUBLISH
X-PUBLISHED-TTL:P3D
REFRESH-INTERVAL:P3D
CALSCALE:GREGORIAN
BEGIN:VEVENT
DTSTART:20200207T013000Z
DTEND:20200207T033000Z
X-MICROSOFT-CDO-ALLDAYEVENT:FALSE
SUMMARY:Sons of Serendip concert
DESCRIPTION:Sons of Serendip create beautiful music through the use of harp\, piano\, cello and voice. This Billboard-charting quartet is gaining popularity since appearing on season 9 of "America's Got Talent" as finalists\, and moving on to "America's Got Talent: The Champions" in 2019. Their program is a fresh mix of emotionally expressive popular music\, engaging stories\, and audience participation. Presented by the nonprofit Harlingen Concert Association. For more info and to purchase tickets\, visit www.HarlingenConcert.com.
X-ALT-DESC;FMTTYPE=text/html:Sons of Serendip create beautiful music through the use of harp\, piano\, cello and voice. This Billboard-charting quartet is gaining popularity since appearing on season 9 of &quot\;America&rsquo\;s Got Talent&quot\; as finalists\, and moving on to &quot\;America&rsquo\;s Got Talent: The Champions&quot\; in 2019. Their program is a fresh mix of emotionally expressive popular music\, engaging stories\, and audience participation. Presented by the nonprofit Harlingen Concert Association. For more info and to purchase tickets\, visit www.HarlingenConcert.com.
LOCATION:Harlingen Municipal Auditorium\, 1204 Fair Park Blvd.
UID:e.1828.15194
SEQUENCE:3
DTSTAMP:20260423T000255Z
URL:https://business.harlingen.com/events/details/sons-of-serendip-concert-15194
END:VEVENT

END:VCALENDAR
