BEGIN:VCALENDAR
VERSION:2.0
PRODID:-//ChamberMaster//Event Calendar 2.0//EN
METHOD:PUBLISH
X-PUBLISHED-TTL:P3D
REFRESH-INTERVAL:P3D
CALSCALE:GREGORIAN
BEGIN:VEVENT
DTSTART:20110413T223000Z
DTEND:20110413T223000Z
X-MICROSOFT-CDO-ALLDAYEVENT:FALSE
SUMMARY:Sors & Associates Ribbon Cutting
DESCRIPTION:Join us in welcoming new member\, Sors & Associates\, with a ribbon cutting ceremony. Sors & Associates coordinate & host South Padre Island Fishing Tournaments. The next tournament will be held on April 23 as part of their 1st International SPI Tournament Trail. They are always looking for new fishing teams and offer a great opportunity for sponsorships! Adult beverages and finger foods will be served.
X-ALT-DESC;FMTTYPE=text/html:Join us in welcoming new member\, Sors & Associates\, with a ribbon cutting ceremony. Sors & Associates coordinate & host South Padre Island Fishing Tournaments. The next tournament will be held on April 23 as part of their 1st International SPI Tournament Trail. They are always looking for new fishing teams and offer a great opportunity for sponsorships! Adult beverages and finger foods will be served.  \n
LOCATION:Chamber Courtyard
UID:e.1828.3017
SEQUENCE:3
DTSTAMP:20260421T112901Z
URL:https://business.harlingen.com/events/details/sors-associates-ribbon-cutting-04-13-2011-3017
END:VEVENT

END:VCALENDAR
