BEGIN:VCALENDAR
VERSION:2.0
PRODID:-//ChamberMaster//Event Calendar 2.0//EN
METHOD:PUBLISH
X-PUBLISHED-TTL:P3D
REFRESH-INTERVAL:P3D
CALSCALE:GREGORIAN
BEGIN:VEVENT
DTSTART:20100417T153000Z
DTEND:20100417T173000Z
X-MICROSOFT-CDO-ALLDAYEVENT:FALSE
SUMMARY:SOUTH PADRE ISLAND KITE ENTHUSIASTS KITE MAKING WORKSHOP
DESCRIPTION:S.P.I.K.E. SOUTH PADRE ISLAND KITE ENTHUSIASTS KITE MAKING WORKSHOP "DIAMONDS IN THE SKY".  Date: Saturday\, April 17\, 2010.  Time: 10:30 a.m. to 12:30 a.m.  Location: Harlingen Arts & Heritage Museum\nActivity Room\, 2425 Boxwood St.  For more information please call\, (956) 216-4901.
X-ALT-DESC;FMTTYPE=text/html:S.P.I.K.E. SOUTH PADRE ISLAND KITE ENTHUSIASTS KITE MAKING WORKSHOP "DIAMONDS IN THE SKY".  Date: Saturday\, April 17\, 2010.  Time: 10:30 a.m. to 12:30 a.m.  Location: Harlingen Arts & Heritage Museum\nActivity Room\, 2425 Boxwood St.  For more information please call\, (956) 216-4901.\n
LOCATION:
UID:e.1828.2403
SEQUENCE:3
DTSTAMP:20260422T080857Z
URL:https://business.harlingen.com/events/details/south-padre-island-kite-enthusiasts-kite-making-workshop-04-17-2010-2403
END:VEVENT

END:VCALENDAR
