BEGIN:VCALENDAR
VERSION:2.0
PRODID:-//ChamberMaster//Event Calendar 2.0//EN
METHOD:PUBLISH
X-PUBLISHED-TTL:P3D
REFRESH-INTERVAL:P3D
CALSCALE:GREGORIAN
BEGIN:VEVENT
DTSTART:20120613T170000Z
DTEND:20120613T180000Z
X-MICROSOFT-CDO-ALLDAYEVENT:FALSE
SUMMARY:South Texas AHEC Program\, Lecture Series "Research in the Rio Grande Valley"
DESCRIPTION:Guest Speaker: Robert L. Gomez\, M.B.A. Medical Research Division\, @ 1.100\, RAHC Auditorium. Lunch will be provided to the first 50 persons.
X-ALT-DESC;FMTTYPE=text/html:Guest Speaker: Robert L. Gomez\, M.B.A. Medical Research Division\, @ 1.100\, RAHC Auditorium. Lunch will be provided to the first 50 persons. 
LOCATION:
UID:e.1828.3759
SEQUENCE:3
DTSTAMP:20260420T150030Z
URL:https://business.harlingen.com/events/details/south-texas-ahec-program-lecture-series-research-in-the-rio-grande-valley-06-13-2012-3759
END:VEVENT

END:VCALENDAR
