BEGIN:VCALENDAR
VERSION:2.0
PRODID:-//ChamberMaster//Event Calendar 2.0//EN
METHOD:PUBLISH
X-PUBLISHED-TTL:P3D
REFRESH-INTERVAL:P3D
CALSCALE:GREGORIAN
BEGIN:VEVENT
DTSTART:20100924T160000Z
DTEND:20100924T180000Z
X-MICROSOFT-CDO-ALLDAYEVENT:FALSE
SUMMARY:South Texas Better Business Bureau Grand Opening and Ribbon Cuttting
DESCRIPTION:South Texas Better Business Bureau Grand Opening and Ribbon Cuttting Friday\, 9/24/2010 - 11:00 am to 1:00 pm.  Ribbon Cutting at 11:30 am.  Join the South Texas BBB as they celebrate the grand opening of their new offce.  Light hors d'oeuvres and refreshments will be served. RSVP by Monday 9/20/2010 to (956) 968-7327.
X-ALT-DESC;FMTTYPE=text/html:South Texas Better Business Bureau Grand Opening and Ribbon Cuttting Friday\, 9/24/2010 - 11:00 am to 1:00 pm.  Ribbon Cutting at 11:30 am.  Join the South Texas BBB as they celebrate the grand opening of their new offce.  Light hors d'oeuvres and refreshments will be served. RSVP by Monday 9/20/2010 to (956) 968-7327.\n
LOCATION:
UID:e.1828.2751
SEQUENCE:3
DTSTAMP:20260422T002253Z
URL:https://business.harlingen.com/events/details/south-texas-better-business-bureau-grand-opening-and-ribbon-cuttting-09-24-2010-2751
END:VEVENT

END:VCALENDAR
