BEGIN:VCALENDAR
VERSION:2.0
PRODID:-//ChamberMaster//Event Calendar 2.0//EN
METHOD:PUBLISH
X-PUBLISHED-TTL:P3D
REFRESH-INTERVAL:P3D
CALSCALE:GREGORIAN
BEGIN:VEVENT
DTSTART:20100708T130000Z
DTEND:20100708T203000Z
X-MICROSOFT-CDO-ALLDAYEVENT:FALSE
SUMMARY:South Texas Border Business Contracting Expo
DESCRIPTION:The STBBCE is the premier contracting and manufacturing conference in South Texas!  \nHundreds of business owners\, purchasing agents\, procurement decision makers\, vendors\, suppliers\, and manufacturers are expected to attend. \n\nFeaturing 50 federal\, state\, local and corporate contracting exhibitors\; three training tracks\; \nand a matchmaking event that includes 21 federal\, state\, local\, and corporate Procurement Specialists!\n\nKey note speakers include: \nTim Foreman\, Director - U.S. Department of Veteran Affairs\, Office of Small and Disadvantaged Business Utilization (OSDBU) \n&\nYolanda Olivarez\, Regional Administrator  - U.S. Small Business Administration\n\nJuly 7th \,2010\nSouth Texas Border Business Contracting Expo Welcome Reception\n6:00 pm – 7:30 pm\nFirst National Banks Ballroom\n334 S. Texas Ave. \nMercedes\, TX\n\nJuly 8th\, 2010\n8:00 am- 3:00 pm\nRGV Livestock Show Grounds Event Center\, 2nd Floor\nMercedes\, TX\n\nNO FEE!\n\nRegistration strictly required at:\nwww.southtexascontracting.com\n\nSTBBCE is hosted by:\nCommittee Chair Rio South Texas Regional PTAC \n~ A Component of the Business Development & Innovation Group at UTPA ~\n&\nthe South Texas Border Business Contracting Committee.\n\nHonorary co-chairs for the STBBCE are U.S. Congressmen: \n\nHonorable Rubén Hinojosa (TX-15)\nHonorable Henry Cuellar (TX-28)\nHonorable Solomon Ortiz (TX-27)
X-ALT-DESC;FMTTYPE=text/html:The STBBCE is the premier contracting and manufacturing conference in South Texas!  \nHundreds of business owners\, purchasing agents\, procurement decision makers\, vendors\, suppliers\, and manufacturers are expected to attend. \n\nFeaturing 50 federal\, state\, local and corporate contracting exhibitors\; three training tracks\; \nand a matchmaking event that includes 21 federal\, state\, local\, and corporate Procurement Specialists!\n\nKey note speakers include: \nTim Foreman\, Director - U.S. Department of Veteran Affairs\, Office of Small and Disadvantaged Business Utilization (OSDBU) \n&\nYolanda Olivarez\, Regional Administrator  - U.S. Small Business Administration\n\nJuly 7th \,2010\nSouth Texas Border Business Contracting Expo Welcome Reception\n6:00 pm – 7:30 pm\nFirst National Banks Ballroom\n334 S. Texas Ave. \nMercedes\, TX\n\nJuly 8th\, 2010\n8:00 am- 3:00 pm\nRGV Livestock Show Grounds Event Center\, 2nd Floor\nMercedes\, TX\n\nNO FEE!\n\nRegistration strictly required at:\nwww.southtexascontracting.com\n\nSTBBCE is hosted by:\nCommittee Chair Rio South Texas Regional PTAC \n~ A Component of the Business Development & Innovation Group at UTPA ~\n&\nthe South Texas Border Business Contracting Committee.\n\nHonorary co-chairs for the STBBCE are U.S. Congressmen: \n\nHonorable Rubén Hinojosa (TX-15)\nHonorable Henry Cuellar (TX-28)\nHonorable Solomon Ortiz (TX-27)\n
LOCATION:Rio Grande Valley Livestock Show
UID:e.1828.2556
SEQUENCE:3
DTSTAMP:20260422T015542Z
URL:https://business.harlingen.com/events/details/south-texas-border-business-contracting-expo-07-08-2010-2556
END:VEVENT

END:VCALENDAR
