BEGIN:VCALENDAR
VERSION:2.0
PRODID:-//ChamberMaster//Event Calendar 2.0//EN
METHOD:PUBLISH
X-PUBLISHED-TTL:P3D
REFRESH-INTERVAL:P3D
CALSCALE:GREGORIAN
BEGIN:VEVENT
DTSTART:20101210T020000Z
DTEND:20101210T020000Z
X-MICROSOFT-CDO-ALLDAYEVENT:FALSE
SUMMARY:South Texas Chorale
DESCRIPTION:South Texas Chorale's Christmas concert "Let Heaven and Nature Sing"\, presented by singers and orchestra.  Tickets are $15\, $25 and $35\; ticket sales begin November 10 at the Harlingen Municipal Auditorium Box Office (or www.harlingenarts.com).  Student tickets are $5\, with student ID.  Reserved seats.
X-ALT-DESC;FMTTYPE=text/html:South Texas Chorale's Christmas concert "Let Heaven and Nature Sing"\, presented by singers and orchestra.  Tickets are $15\, $25 and $35\; ticket sales begin November 10 at the Harlingen Municipal Auditorium Box Office (or www.harlingenarts.com).  Student tickets are $5\, with student ID.  Reserved seats.
LOCATION:Harlingen Municipal Auditorium
UID:e.1828.3253
SEQUENCE:3
DTSTAMP:20260421T171320Z
URL:https://business.harlingen.com/events/details/south-texas-chorale-12-09-2010-3253
END:VEVENT

END:VCALENDAR
