BEGIN:VCALENDAR
VERSION:2.0
PRODID:-//ChamberMaster//Event Calendar 2.0//EN
METHOD:PUBLISH
X-PUBLISHED-TTL:P3D
REFRESH-INTERVAL:P3D
CALSCALE:GREGORIAN
BEGIN:VEVENT
DTSTART:20091204T020000Z
DTEND:20091204T020000Z
X-MICROSOFT-CDO-ALLDAYEVENT:FALSE
SUMMARY:South Texas Chorale and Festival Orchestra Present ''Let Heaven and Nature Sing'' Christmas Concert
DESCRIPTION:South Texas Chorale and the Festival Orchestra present their Christmas Concert ''Let Heaven and Nature Sing'' on Thursday\, December 3 at 8:00 p.m. at the Harlingen Municipal Auditorium.\n\nTicket prices are $10\, $20 and $30.  Tickets will be available beginning November 4 at the Box Office of the Harlingen Municipal Auditorium\, and at the door (if the performance is not sold out).  Tickets may be available on-line\; check the Auditorium's website for details (www.Harlingenarts.com).\n\nThe Chorale will also present a concert in the spring\; details will be announced later.  For more information please contact Debbie Gibson at 493-3738.
X-ALT-DESC;FMTTYPE=text/html:South Texas Chorale and the Festival Orchestra present their Christmas Concert ''Let Heaven and Nature Sing'' on Thursday\, December 3 at 8:00 p.m. at the Harlingen Municipal Auditorium.\n\nTicket prices are $10\, $20 and $30.  Tickets will be available beginning November 4 at the Box Office of the Harlingen Municipal Auditorium\, and at the door (if the performance is not sold out).  Tickets may be available on-line\; check the Auditorium's website for details (www.Harlingenarts.com).\n\nThe Chorale will also present a concert in the spring\; details will be announced later.  For more information please contact Debbie Gibson at 493-3738.\n
LOCATION:
UID:e.1828.2168
SEQUENCE:3
DTSTAMP:20260422T144903Z
URL:https://business.harlingen.com/events/details/south-texas-chorale-and-festival-orchestra-present-let-heaven-and-nature-sing-christmas-concert-12-03-2009-2168
END:VEVENT

END:VCALENDAR
