BEGIN:VCALENDAR
VERSION:2.0
PRODID:-//ChamberMaster//Event Calendar 2.0//EN
METHOD:PUBLISH
X-PUBLISHED-TTL:P3D
REFRESH-INTERVAL:P3D
CALSCALE:GREGORIAN
BEGIN:VEVENT
DTSTART:20101001T010000Z
DTEND:20101001T010000Z
X-MICROSOFT-CDO-ALLDAYEVENT:FALSE
SUMMARY:South Texas Chorale Annual Pops Concert
DESCRIPTION:Annual Pops Concert "Bringing Back the Memories".  The concert features your favorite songs\, with live musicians and singers from our community.  Tickets are $10\, $15\, $30\, and are on sale beginning August 30 at the Harlingen Municipal Auditorium Box Office\, or on-line at www.harlingenarts.com.  Tickets will also be available at the door.
X-ALT-DESC;FMTTYPE=text/html:Annual Pops Concert "Bringing Back the Memories".  The concert features your favorite songs\, with live musicians and singers from our community.  Tickets are $10\, $15\, $30\, and are on sale beginning August 30 at the Harlingen Municipal Auditorium Box Office\, or on-line at www.harlingenarts.com.  Tickets will also be available at the door.
LOCATION:
UID:e.1828.2658
SEQUENCE:3
DTSTAMP:20260422T001821Z
URL:https://business.harlingen.com/events/details/south-texas-chorale-annual-pops-concert-09-30-2010-2658
END:VEVENT

END:VCALENDAR
