BEGIN:VCALENDAR
VERSION:2.0
PRODID:-//ChamberMaster//Event Calendar 2.0//EN
METHOD:PUBLISH
X-PUBLISHED-TTL:P3D
REFRESH-INTERVAL:P3D
CALSCALE:GREGORIAN
BEGIN:VEVENT
DTSTART:20101210T020000Z
DTEND:20101210T020000Z
X-MICROSOFT-CDO-ALLDAYEVENT:FALSE
SUMMARY:South Texas Chorale Christmas Concert
DESCRIPTION:The South Texas Chorale\, Annual Christmas Concert "Let Heaven & Nature Sing"! \nHarlingen Municipal Auditorium tickets available at the Harlingen Auditorium Box Office 956-216-5990 or at the door. Purchase tickets online at www.harlingenarts.com
X-ALT-DESC;FMTTYPE=text/html:The South Texas Chorale\, Annual Christmas Concert "Let Heaven & Nature Sing"! \nHarlingen Municipal Auditorium tickets available at the Harlingen Auditorium Box Office 956-216-5990 or at the door. Purchase tickets online at www.harlingenarts.com\n
LOCATION:
UID:e.1828.2655
SEQUENCE:3
DTSTAMP:20260421T171745Z
URL:https://business.harlingen.com/events/details/south-texas-chorale-christmas-concert-12-09-2010-2655
END:VEVENT

END:VCALENDAR
