BEGIN:VCALENDAR
VERSION:2.0
PRODID:-//ChamberMaster//Event Calendar 2.0//EN
METHOD:PUBLISH
X-PUBLISHED-TTL:P3D
REFRESH-INTERVAL:P3D
CALSCALE:GREGORIAN
BEGIN:VEVENT
DTSTART:20110327T200000Z
DTEND:20110327T200000Z
X-MICROSOFT-CDO-ALLDAYEVENT:FALSE
SUMMARY:South Texas Chorale MasterWorks Concert
DESCRIPTION:The Masterworks Concert\nMozart "Requiem" and more featuring the combined choirs of the South Texas Chorale and the UTB Master Chorale with The South Texas Festival Orchestra under the direction of Dianne Brumley.\n\nTickets available online at www.harlingenarts.com or at the box offices of the Harlingen Municipal Auditorium:956- 216-5990 and the UTB Arts Center: 956-882-8587
X-ALT-DESC;FMTTYPE=text/html:The Masterworks Concert\nMozart "Requiem" and more featuring the combined choirs of the South Texas Chorale and the UTB Master Chorale with The South Texas Festival Orchestra under the direction of Dianne Brumley.\n\nTickets available online at www.harlingenarts.com or at the box offices of the Harlingen Municipal Auditorium:956- 216-5990 and the UTB Arts Center: 956-882-8587
LOCATION:
UID:e.1828.2656
SEQUENCE:3
DTSTAMP:20260421T135823Z
URL:https://business.harlingen.com/events/details/south-texas-chorale-masterworks-concert-03-27-2011-2656
END:VEVENT

END:VCALENDAR
