BEGIN:VCALENDAR
VERSION:2.0
PRODID:-//ChamberMaster//Event Calendar 2.0//EN
METHOD:PUBLISH
X-PUBLISHED-TTL:P3D
REFRESH-INTERVAL:P3D
CALSCALE:GREGORIAN
BEGIN:VEVENT
DTSTART:20100328T200000Z
DTEND:20100328T200000Z
X-MICROSOFT-CDO-ALLDAYEVENT:FALSE
SUMMARY:South Texas Chorale Masterworks Concert
DESCRIPTION:South Texas Chorale presents their Masterworks Concert on Sunday\, March 28 at 3:00 p.m. at the First Methodist Church\, Harlingen.\n	The concert will feature John Rutter's ''Requiem'' and several other musical selections.  The Chorale will be accompanied by the pipe organ and orchestra.\n	Ticket prices are $15.00\, or $5.00 with student ID\; tickets are open seating.  .  Tickets will be available at the Harlingen Municipal Auditorium box office beginning February 25\, and will also be available at the door.  \nFor more information\, please call 956-493-3738.
X-ALT-DESC;FMTTYPE=text/html:South Texas Chorale presents their Masterworks Concert on Sunday\, March 28 at 3:00 p.m. at the First Methodist Church\, Harlingen.\n	The concert will feature John Rutter's ''Requiem'' and several other musical selections.  The Chorale will be accompanied by the pipe organ and orchestra.\n	Ticket prices are $15.00\, or $5.00 with student ID\; tickets are open seating.  .  Tickets will be available at the Harlingen Municipal Auditorium box office beginning February 25\, and will also be available at the door.  \nFor more information\, please call 956-493-3738.
LOCATION:
UID:e.1828.2330
SEQUENCE:3
DTSTAMP:20260422T080832Z
URL:https://business.harlingen.com/events/details/south-texas-chorale-masterworks-concert-03-28-2010-2330
END:VEVENT

END:VCALENDAR
