BEGIN:VCALENDAR
VERSION:2.0
PRODID:-//ChamberMaster//Event Calendar 2.0//EN
METHOD:PUBLISH
X-PUBLISHED-TTL:P3D
REFRESH-INTERVAL:P3D
CALSCALE:GREGORIAN
BEGIN:VEVENT
DTSTART:20110327T200000Z
DTEND:20110327T213500Z
X-MICROSOFT-CDO-ALLDAYEVENT:FALSE
SUMMARY:South Texas Chorale Spring Masterworks Concert
DESCRIPTION:The combined choirs of the South Texas Chorale and the UTB/TSC Master Chorale\, under the direction of Dianne Brumley\, and featuring the South Texas Festival Orchestra\, will present the annual spring concert.\n\nTickets are $17 (student $5 with current valid ID) and are available at the box offices of:\nHarlingen Municipal Auditorium. Call 216-5990 \nThe Arts Center. Call 882-8587
X-ALT-DESC;FMTTYPE=text/html:The combined choirs of the South Texas Chorale and the UTB/TSC Master Chorale\, under the direction of Dianne Brumley\, and featuring the South Texas Festival Orchestra\, will present the annual spring concert.\n\nTickets are $17 (student $5 with current valid ID) and are available at the box offices of:\nHarlingen Municipal Auditorium. Call 216-5990 \nThe Arts Center. Call 882-8587 
LOCATION:UTB/TSC\, The Arts Center
UID:e.1828.3264
SEQUENCE:3
DTSTAMP:20260421T135833Z
URL:https://business.harlingen.com/events/details/south-texas-chorale-spring-masterworks-concert-03-27-2011-3264
END:VEVENT

END:VCALENDAR
