BEGIN:VCALENDAR
VERSION:2.0
PRODID:-//ChamberMaster//Event Calendar 2.0//EN
METHOD:PUBLISH
X-PUBLISHED-TTL:P3D
REFRESH-INTERVAL:P3D
CALSCALE:GREGORIAN
BEGIN:VEVENT
DTSTART:20120322T150000Z
DTEND:20120322T150000Z
X-MICROSOFT-CDO-ALLDAYEVENT:FALSE
SUMMARY:South Texas Emergency Care/Valley Air Care
DESCRIPTION:Let's join South Texas Emergency Care on this special day as they celebrate the addition of their second location.
X-ALT-DESC;FMTTYPE=text/html:Let's join South Texas Emergency Care on this special day as they celebrate the addition of their second location.\n
LOCATION:
UID:e.1828.3482
SEQUENCE:3
DTSTAMP:20260420T182118Z
URL:https://business.harlingen.com/events/details/south-texas-emergency-care-valley-air-care-03-22-2012-3482
END:VEVENT

END:VCALENDAR
