BEGIN:VCALENDAR
VERSION:2.0
PRODID:-//ChamberMaster//Event Calendar 2.0//EN
METHOD:PUBLISH
X-PUBLISHED-TTL:P3D
REFRESH-INTERVAL:P3D
CALSCALE:GREGORIAN
BEGIN:VEVENT
DTSTART;VALUE=DATE:20110610
DTEND;VALUE=DATE:20110611
TRANSP:TRANSPARENT
X-MICROSOFT-CDO-ALLDAYEVENT:TRUE
SUMMARY:South Texas Franchise Showcase
DESCRIPTION:Meet with prospective franchisors and be a part of the booming economy in the Rio Grande Valley! For additional information and pre-registration please visit  www.texasfranchiseconnection.com. Contact Lauren Brunner 512-494-4500 or Marcel Garza 817-201-9013
X-ALT-DESC;FMTTYPE=text/html:Meet with prospective franchisors and be a part of the booming economy in the Rio Grande Valley! For additional information and pre-registration please visit  www.texasfranchiseconnection.com. Contact Lauren Brunner 512-494-4500 or Marcel Garza 817-201-9013  \n
LOCATION:
UID:e.1828.3068
SEQUENCE:3
DTSTAMP:20260421T081802Z
URL:https://business.harlingen.com/events/details/south-texas-franchise-showcase-06-10-2011-3068
END:VEVENT

END:VCALENDAR
