BEGIN:VCALENDAR
VERSION:2.0
PRODID:-//ChamberMaster//Event Calendar 2.0//EN
METHOD:PUBLISH
X-PUBLISHED-TTL:P3D
REFRESH-INTERVAL:P3D
CALSCALE:GREGORIAN
BEGIN:VEVENT
DTSTART:20111210T200000Z
DTEND:20111211T030000Z
X-MICROSOFT-CDO-ALLDAYEVENT:FALSE
SUMMARY:South Texas KMBH Olive Oil Fiesta
DESCRIPTION:South Texas KMBH Olive Oil Fiesta\nKMBH Ch-38 PBS Television -1701 Tennessee Ave.\nCome out to the station to be a part of the South Texas Olive Oil Fiesta! Workshops\, tastings\, music\, and fun for the whole family. \n\n Contact: Rose Mary Mata 956-421-4111  e-mail: rmmata@kmbh.org\n                Bill Millet 972-365--3303 e-mail: noticias@elcaminoolivetrail.ocm\n                Jim Henry 214-325-5787
X-ALT-DESC;FMTTYPE=text/html:South Texas KMBH Olive Oil Fiesta\nKMBH Ch-38 PBS Television -1701 Tennessee Ave.\nCome out to the station to be a part of the South Texas Olive Oil Fiesta! Workshops\, tastings\, music\, and fun for the whole family. \n\n Contact: Rose Mary Mata 956-421-4111  e-mail: rmmata@kmbh.org\n                Bill Millet 972-365--3303 e-mail: noticias@elcaminoolivetrail.ocm\n                Jim Henry 214-325-5787
LOCATION:
UID:e.1828.3289
SEQUENCE:3
DTSTAMP:20260420T225619Z
URL:https://business.harlingen.com/events/details/south-texas-kmbh-olive-oil-fiesta-12-10-2011-3289
END:VEVENT

END:VCALENDAR
