BEGIN:VCALENDAR
VERSION:2.0
PRODID:-//ChamberMaster//Event Calendar 2.0//EN
METHOD:PUBLISH
X-PUBLISHED-TTL:P3D
REFRESH-INTERVAL:P3D
CALSCALE:GREGORIAN
BEGIN:VEVENT
DTSTART;VALUE=DATE:20110129
DTEND;VALUE=DATE:20110130
TRANSP:TRANSPARENT
X-MICROSOFT-CDO-ALLDAYEVENT:TRUE
SUMMARY:South Texas Sizzler 5k & 10k Harlingen Soccer Complex
DESCRIPTION:Benefiting Miracle Kids of South Texas. Little Sizzle (1 Mile Fun-Run ) start 7:30 AM\, 5K/10K start 8:00 AM. For information and online registration through active.com\, easily accessed on the South Texas Sizzler 5K race information page at www.valleybaptist.net.
X-ALT-DESC;FMTTYPE=text/html:Benefiting Miracle Kids of South Texas. Little Sizzle (1 Mile Fun-Run ) start 7:30 AM\, 5K/10K start 8:00 AM. For information and online registration through active.com\, easily accessed on the South Texas Sizzler 5K race information page at www.valleybaptist.net. 
LOCATION:
UID:e.1828.2882
SEQUENCE:3
DTSTAMP:20260421T154738Z
URL:https://business.harlingen.com/events/details/south-texas-sizzler-5k-10k-harlingen-soccer-complex-01-29-2011-2882
END:VEVENT

END:VCALENDAR
