BEGIN:VCALENDAR
VERSION:2.0
PRODID:-//ChamberMaster//Event Calendar 2.0//EN
METHOD:PUBLISH
X-PUBLISHED-TTL:P3D
REFRESH-INTERVAL:P3D
CALSCALE:GREGORIAN
BEGIN:VEVENT
DTSTART:20101030T220000Z
DTEND:20101030T220000Z
X-MICROSOFT-CDO-ALLDAYEVENT:FALSE
SUMMARY:South Texas Xtreme All Star Cheer & Tumbling Grand Opening & Ribbon Cutting
DESCRIPTION:Founded by Scott and Diana Kimak in September 2009\, South Texas Xtreme offers classes in cheerleading\, tumbling\, competitive all star cheer and dance.   Please join them for the grand opening and ribbon cutting celebrating their new location.  Burgers\, hot dogs and sodas will be served and the South Texas Xtreme Cheerleaders will perform their competition routines.  For more information please call 956-425-2468.
X-ALT-DESC;FMTTYPE=text/html:Founded by Scott and Diana Kimak in September 2009\, South Texas Xtreme offers classes in cheerleading\, tumbling\, competitive all star cheer and dance.   Please join them for the grand opening and ribbon cutting celebrating their new location.  Burgers\, hot dogs and sodas will be served and the South Texas Xtreme Cheerleaders will perform their competition routines.  For more information please call 956-425-2468.\n
LOCATION:
UID:e.1828.2790
SEQUENCE:3
DTSTAMP:20260421T223622Z
URL:https://business.harlingen.com/events/details/south-texas-xtreme-all-star-cheer-tumbling-grand-opening-ribbon-cutting-10-30-2010-2790
END:VEVENT

END:VCALENDAR
