BEGIN:VCALENDAR
VERSION:2.0
PRODID:-//ChamberMaster//Event Calendar 2.0//EN
METHOD:PUBLISH
X-PUBLISHED-TTL:P3D
REFRESH-INTERVAL:P3D
CALSCALE:GREGORIAN
BEGIN:VEVENT
DTSTART:20100211T223000Z
DTEND:20100211T223000Z
X-MICROSOFT-CDO-ALLDAYEVENT:FALSE
SUMMARY:Southwest Airlines 35th Anniversary Celebration
DESCRIPTION:Southwest Airlines 35th Anniversary Celebration on February 11th.  Join Southwest Airlines for their 35th Anniversary Celebration on Thursday\, February 11 at Valley International Airport.  Open remarks begin at 4:30 p.m. at Valley International Airport followed by Celebration of LUV: SWA Wedding & Renewal of Vows and then a Birthday Party Extravaganza: food\, drink & candles Galore.  Support the Ronald McDonald House.  We will be collecting white bed and bath linens and restaurant gift cards for the residents at our SWA charity\, the Ronald McDonald House.
X-ALT-DESC;FMTTYPE=text/html:Southwest Airlines 35th Anniversary Celebration on February 11th.  Join Southwest Airlines for their 35th Anniversary Celebration on Thursday\, February 11 at Valley International Airport.  Open remarks begin at 4:30 p.m. at Valley International Airport followed by Celebration of LUV: SWA Wedding & Renewal of Vows and then a Birthday Party Extravaganza: food\, drink & candles Galore.  Support the Ronald McDonald House.  We will be collecting white bed and bath linens and restaurant gift cards for the residents at our SWA charity\, the Ronald McDonald House.\n
LOCATION:
UID:e.1828.2379
SEQUENCE:3
DTSTAMP:20260422T094719Z
URL:https://business.harlingen.com/events/details/southwest-airlines-35th-anniversary-celebration-02-11-2010-2379
END:VEVENT

END:VCALENDAR
