BEGIN:VCALENDAR
VERSION:2.0
PRODID:-//ChamberMaster//Event Calendar 2.0//EN
METHOD:PUBLISH
X-PUBLISHED-TTL:P3D
REFRESH-INTERVAL:P3D
CALSCALE:GREGORIAN
BEGIN:VEVENT
DTSTART;VALUE=DATE:20100204
DTEND;VALUE=DATE:20100212
TRANSP:TRANSPARENT
X-MICROSOFT-CDO-ALLDAYEVENT:TRUE
SUMMARY:Southwest Airlines Launches "Vows in the Valley" Contest
DESCRIPTION:Ready to get married?  Do you LUV Southwest? Well\, your time has arrived!  In conjunction with our 35th anniversary of serving the Rio Grande Valley\, Southwest Airlines has announced "Vows in the Valley" contest.  From essays submitted online\, a panel of LUV experts at the LUV airline will select one couple to exchange wedding vows at Valley International Airport in Harlingen (HRL) followed by a reception and immediate\, destination honeymoon! \n\nThis contest\, part of our "LUV in the Valley" 35th Anniversary\, is open for submissions now through February 4\, 2010 and the event will take place on February 11. To see all the rules and details of the contest\, please link to: www.southwest.com/luvinthevalley\n \nJoin Southwest Airlines for their 35th Anniversary Celebration on Thursday\, February 11at Valley International Airport Lobby. \n \nOpen remarks begin at 4:30 pm followed by Celebration of LUV: SWA Wedding & Renewal of Vows and then a Birthday Party Extravaganza: Food\, Drink & Candles Galore. \n \nSupport the Ronald McDonald House \nWe will be collecting white bed and bath linens and restaurant gift cards for the residents at our SWA charity\, the Ronald McDonald House.
X-ALT-DESC;FMTTYPE=text/html:Ready to get married?  Do you LUV Southwest? Well\, your time has arrived!  In conjunction with our 35th anniversary of serving the Rio Grande Valley\, Southwest Airlines has announced "Vows in the Valley" contest.  From essays submitted online\, a panel of LUV experts at the LUV airline will select one couple to exchange wedding vows at Valley International Airport in Harlingen (HRL) followed by a reception and immediate\, destination honeymoon! \n\nThis contest\, part of our "LUV in the Valley" 35th Anniversary\, is open for submissions now through February 4\, 2010 and the event will take place on February 11. To see all the rules and details of the contest\, please link to: www.southwest.com/luvinthevalley\n \nJoin Southwest Airlines for their 35th Anniversary Celebration on Thursday\, February 11at Valley International Airport Lobby. \n \nOpen remarks begin at 4:30 pm followed by Celebration of LUV: SWA Wedding & Renewal of Vows and then a Birthday Party Extravaganza: Food\, Drink & Candles Galore. \n \nSupport the Ronald McDonald House \nWe will be collecting white bed and bath linens and restaurant gift cards for the residents at our SWA charity\, the Ronald McDonald House.\n
LOCATION:
UID:e.1828.2361
SEQUENCE:3
DTSTAMP:20260422T112224Z
URL:https://business.harlingen.com/events/details/southwest-airlines-launches-vows-in-the-valley-contest-02-04-2010-2361
END:VEVENT

END:VCALENDAR
