BEGIN:VCALENDAR
VERSION:2.0
PRODID:-//ChamberMaster//Event Calendar 2.0//EN
METHOD:PUBLISH
X-PUBLISHED-TTL:P3D
REFRESH-INTERVAL:P3D
CALSCALE:GREGORIAN
BEGIN:VEVENT
DTSTART:20100909T130000Z
DTEND:20100909T130000Z
X-MICROSOFT-CDO-ALLDAYEVENT:FALSE
SUMMARY:Speak Up For Kids CASA 5K 2010
DESCRIPTION:Put on your favorite running or walking shoes and register to participate in the Speak Up For Kids CASA 5K to raise funds and friends for CASA (Court Appointed Special Advocate®) programs whose volunteers speak up for abused and neglected children in court and the foster care system.  The Speak Up For Kids CASA 5K Series is proudly presented by Blue Cross and Blue Shield of Texas and coordinated by Texas CASA. All proceeds from each CASA 5K event benefit the local CASA program and bolster their efforts to recruit and train CASA volunteers.  Your participation makes a difference! So\, walk\, run or jog in one of these events in a community near you—and help speak up for a child.  For more information\, please call 956-546-6545 or register online at www.casa5k.org
X-ALT-DESC;FMTTYPE=text/html:Put on your favorite running or walking shoes and register to participate in the Speak Up For Kids CASA 5K to raise funds and friends for CASA (Court Appointed Special Advocate®) programs whose volunteers speak up for abused and neglected children in court and the foster care system.  The Speak Up For Kids CASA 5K Series is proudly presented by Blue Cross and Blue Shield of Texas and coordinated by Texas CASA. All proceeds from each CASA 5K event benefit the local CASA program and bolster their efforts to recruit and train CASA volunteers.  Your participation makes a difference! So\, walk\, run or jog in one of these events in a community near you—and help speak up for a child.  For more information\, please call 956-546-6545 or register online at www.casa5k.org\n\n
LOCATION:
UID:e.1828.2743
SEQUENCE:3
DTSTAMP:20260421T223158Z
URL:https://business.harlingen.com/events/details/speak-up-for-kids-casa-5k-2010-09-09-2010-2743
END:VEVENT

END:VCALENDAR
