BEGIN:VCALENDAR
VERSION:2.0
PRODID:-//ChamberMaster//Event Calendar 2.0//EN
METHOD:PUBLISH
X-PUBLISHED-TTL:P3D
REFRESH-INTERVAL:P3D
CALSCALE:GREGORIAN
BEGIN:VEVENT
DTSTART:20090929T230000Z
DTEND:20090929T230000Z
X-MICROSOFT-CDO-ALLDAYEVENT:FALSE
SUMMARY:Speaker presentation by CIMA Hospice
DESCRIPTION:Harlingen Nursing and Rehabilitation will be hosting a speaker presentation by CIMA Hospice. They will highlight their services and announce their new contract with Harlingen Nursing. This is an opportunity for the community to educate themselves on what a hospice program can provide. This will take place on Tuesday Sept. 29\, 2009 at 6:00PM.  Refreshments will be served. For more information\, please call (956) 412-8660.
X-ALT-DESC;FMTTYPE=text/html:Harlingen Nursing and Rehabilitation will be hosting a speaker presentation by CIMA Hospice. They will highlight their services and announce their new contract with Harlingen Nursing. This is an opportunity for the community to educate themselves on what a hospice program can provide. This will take place on Tuesday Sept. 29\, 2009 at 6:00PM.  Refreshments will be served. For more information\, please call (956) 412-8660.\n
LOCATION:
UID:e.1828.2119
SEQUENCE:3
DTSTAMP:20260422T093546Z
URL:https://business.harlingen.com/events/details/speaker-presentation-by-cima-hospice-09-29-2009-2119
END:VEVENT

END:VCALENDAR
