BEGIN:VCALENDAR
VERSION:2.0
PRODID:-//ChamberMaster//Event Calendar 2.0//EN
METHOD:PUBLISH
X-PUBLISHED-TTL:P3D
REFRESH-INTERVAL:P3D
CALSCALE:GREGORIAN
BEGIN:VEVENT
DTSTART:20100304T180000Z
DTEND:20100304T180000Z
X-MICROSOFT-CDO-ALLDAYEVENT:FALSE
SUMMARY:Speechcraft Public Speaking Class
DESCRIPTION:You are invited to attend a Speechcraft public speaking class on Thursday\, March 4th at the Harlingen Chamber\, 311 East Tyler Avenue\, Harlingen. The $20 fee for the Speechcraft class will apply to the annual Toastmasters registration fee for those who are interested in participating in Toastmasters following completion of the Speechcraft class.  Participants in the Speechcaft class will learn and practice public speaking techniques\, including impromptu and prepared presentations and receiving and giving feedback.  Continuing your participation in Toastmasters will allow you to further develop your speaking skills by teaching you how to deliver professional and effective speeches\, conduct meetings\, introduce speakers\, and many other aspects of public speaking.  Please call Kathy at the Harlingen Chamber for further information:  423-5440 x 212\, or email her at kwolf@harlingen.com.
X-ALT-DESC;FMTTYPE=text/html:You are invited to attend a Speechcraft public speaking class on Thursday\, March 4th at the Harlingen Chamber\, 311 East Tyler Avenue\, Harlingen. The $20 fee for the Speechcraft class will apply to the annual Toastmasters registration fee for those who are interested in participating in Toastmasters following completion of the Speechcraft class.  Participants in the Speechcaft class will learn and practice public speaking techniques\, including impromptu and prepared presentations and receiving and giving feedback.  Continuing your participation in Toastmasters will allow you to further develop your speaking skills by teaching you how to deliver professional and effective speeches\, conduct meetings\, introduce speakers\, and many other aspects of public speaking.  Please call Kathy at the Harlingen Chamber for further information:  423-5440 x 212\, or email her at kwolf@harlingen.com. \n
LOCATION:
UID:e.1828.2418
SEQUENCE:3
DTSTAMP:20260422T080606Z
URL:https://business.harlingen.com/events/details/speechcraft-public-speaking-class-03-04-2010-2418
END:VEVENT

END:VCALENDAR
