BEGIN:VCALENDAR
VERSION:2.0
PRODID:-//ChamberMaster//Event Calendar 2.0//EN
METHOD:PUBLISH
X-PUBLISHED-TTL:P3D
REFRESH-INTERVAL:P3D
CALSCALE:GREGORIAN
BEGIN:VEVENT
DTSTART:20100501T150000Z
DTEND:20100510T000000Z
X-MICROSOFT-CDO-ALLDAYEVENT:FALSE
SUMMARY:SPI KITE ROUND-UP
DESCRIPTION:9 day long Kiteboarding Event featuring PRO-AM competitions\, Instructional Clinics\, and Equipment Demos from the Surf and Kite Industry.  National/International participation and post event Media Exposure.  A fun time for spectators\,  competitors\, recreational kiteboarders\, and anyone interested in learning about kiteboarding.  Promoting a new\, healthy\, 100% green outdoor activity for RGV residents.  Come and enjoy the sun and wind and see some of the country's best riders compete!
X-ALT-DESC;FMTTYPE=text/html:9 day long Kiteboarding Event featuring PRO-AM competitions\, Instructional Clinics\, and Equipment Demos from the Surf and Kite Industry.  National/International participation and post event Media Exposure.  A fun time for spectators\,  competitors\, recreational kiteboarders\, and anyone interested in learning about kiteboarding.  Promoting a new\, healthy\, 100% green outdoor activity for RGV residents.  Come and enjoy the sun and wind and see some of the country's best riders compete!  \n\n
LOCATION:South Padre Island Convention Center Beach\, May 1-9 2010.
UID:e.1828.2384
SEQUENCE:3
DTSTAMP:20260422T045346Z
URL:https://business.harlingen.com/events/details/spi-kite-round-up-05-01-2010-2384
END:VEVENT

END:VCALENDAR
