BEGIN:VCALENDAR
VERSION:2.0
PRODID:-//ChamberMaster//Event Calendar 2.0//EN
METHOD:PUBLISH
X-PUBLISHED-TTL:P3D
REFRESH-INTERVAL:P3D
CALSCALE:GREGORIAN
BEGIN:VEVENT
DTSTART:20100205T233000Z
DTEND:20100206T003000Z
X-MICROSOFT-CDO-ALLDAYEVENT:FALSE
SUMMARY:SPI Lecture Series: ''Curanderismo and the Role of Culture Competency''
DESCRIPTION:Lecture by Dr. Antonio "Tony" Zavaleta. Curanderismo means folk medicine in Spanish.  In Mexico\, it is based on Aztec \, Mayan\, and Spanish influences. The ancient native cultures believed that a delicate balance existed between health\, nature\, and religion. Though rooted in ancient cultures\, it is still practiced today -- right here in the Rio Grande Valley.\n\nTickets: $2 per person\, only 100 for sale\, and can be bought at Club Padre and the SPI Visitors Center.
X-ALT-DESC;FMTTYPE=text/html:Lecture by Dr. Antonio "Tony" Zavaleta. Curanderismo means folk medicine in Spanish.  In Mexico\, it is based on Aztec \, Mayan\, and Spanish influences. The ancient native cultures believed that a delicate balance existed between health\, nature\, and religion. Though rooted in ancient cultures\, it is still practiced today -- right here in the Rio Grande Valley.\n\nTickets: $2 per person\, only 100 for sale\, and can be bought at Club Padre and the SPI Visitors Center.
LOCATION:Club Padre
UID:e.1828.2350
SEQUENCE:3
DTSTAMP:20260422T095649Z
URL:https://business.harlingen.com/events/details/spi-lecture-series-curanderismo-and-the-role-of-culture-competency-02-05-2010-2350
END:VEVENT

END:VCALENDAR
