BEGIN:VCALENDAR
VERSION:2.0
PRODID:-//ChamberMaster//Event Calendar 2.0//EN
METHOD:PUBLISH
X-PUBLISHED-TTL:P3D
REFRESH-INTERVAL:P3D
CALSCALE:GREGORIAN
BEGIN:VEVENT
DTSTART:20100115T233000Z
DTEND:20100116T010000Z
X-MICROSOFT-CDO-ALLDAYEVENT:FALSE
SUMMARY:SPI-UTB/TSC Lecture Series
DESCRIPTION:''Winter Shorebirds of the Laguna Madre'' presented by\nDr. Eric Linder\, UTB/TSC Biological Sciences Department.
X-ALT-DESC;FMTTYPE=text/html:''Winter Shorebirds of the Laguna Madre'' presented by\nDr. Eric Linder\, UTB/TSC Biological Sciences Department.\n\n\n
LOCATION:SPI World Birding Center
UID:e.1828.2273
SEQUENCE:3
DTSTAMP:20260422T111658Z
URL:https://business.harlingen.com/events/details/spi-utb-tsc-lecture-series-01-15-2010-2273
END:VEVENT

END:VCALENDAR
