BEGIN:VCALENDAR
VERSION:2.0
PRODID:-//ChamberMaster//Event Calendar 2.0//EN
METHOD:PUBLISH
X-PUBLISHED-TTL:P3D
REFRESH-INTERVAL:P3D
CALSCALE:GREGORIAN
BEGIN:VEVENT
DTSTART:20120410T180000Z
DTEND:20120410T180000Z
X-MICROSOFT-CDO-ALLDAYEVENT:FALSE
SUMMARY:Sports Celebrity Waiter Dinner
DESCRIPTION:Sponsored by Teens Helping Kids -Proceeds to help Maggie's' House in San Benito and Monica's House in Brownsville\, Children Advocacy Centers of Cameron County
X-ALT-DESC;FMTTYPE=text/html:Sponsored by Teens Helping Kids -Proceeds to help Maggie's' House in San Benito and Monica's House in Brownsville\, Children Advocacy Centers of Cameron County
LOCATION:Amigoland Convention Center Brownsville
UID:e.1828.3620
SEQUENCE:3
DTSTAMP:20260420T163446Z
URL:https://business.harlingen.com/events/details/sports-celebrity-waiter-dinner-04-10-2012-3620
END:VEVENT

END:VCALENDAR
