BEGIN:VCALENDAR
VERSION:2.0
PRODID:-//ChamberMaster//Event Calendar 2.0//EN
METHOD:PUBLISH
X-PUBLISHED-TTL:P3D
REFRESH-INTERVAL:P3D
CALSCALE:GREGORIAN
BEGIN:VEVENT
DTSTART:20110318T210000Z
DTEND:20110319T000000Z
X-MICROSOFT-CDO-ALLDAYEVENT:FALSE
SUMMARY:Spring Break Fiesta
DESCRIPTION:Spring Break Fiesta  \nSponsored by Harlingen Leadership Academy  \nFamilies are invited to enjoy free food\, games\, face painting and ID kits provided by the Harlingen Police Department. Representatives will be on site to meet with parents and answer questions regarding the opening of\, HLA\, the newest campus of Jubilee Academic Center. For more information contact John Jacobson by phone 956-428-4848\, e-mail jjacobson@jubileeacademic.org
X-ALT-DESC;FMTTYPE=text/html:Spring Break Fiesta  \nSponsored by Harlingen Leadership Academy  \nFamilies are invited to enjoy free food\, games\, face painting and ID kits provided by the Harlingen Police Department. Representatives will be on site to meet with parents and answer questions regarding the opening of\, HLA\, the newest campus of Jubilee Academic Center. For more information contact John Jacobson by phone 956-428-4848\, e-mail jjacobson@jubileeacademic.org\n
LOCATION:Parking Lot Faith Pleases God Church
UID:e.1828.2996
SEQUENCE:3
DTSTAMP:20260421T124312Z
URL:https://business.harlingen.com/events/details/spring-break-fiesta-03-18-2011-2996
END:VEVENT

END:VCALENDAR
