BEGIN:VCALENDAR
VERSION:2.0
PRODID:-//ChamberMaster//Event Calendar 2.0//EN
METHOD:PUBLISH
X-PUBLISHED-TTL:P3D
REFRESH-INTERVAL:P3D
CALSCALE:GREGORIAN
BEGIN:VEVENT
DTSTART:20100312T010000Z
DTEND:20100311T060000Z
X-MICROSOFT-CDO-ALLDAYEVENT:FALSE
SUMMARY:Spring Distinguished Lecture Series: "Challenges to Conservation of the Natural World"
DESCRIPTION:Lecture by Kathyrn Fuller\, former executive vice president\, general counsel and director of WWF's programs in public policy and wildlife trade monitoring.\n\nTickets: $25
X-ALT-DESC;FMTTYPE=text/html:Lecture by Kathyrn Fuller\, former executive vice president\, general counsel and director of WWF's programs in public policy and wildlife trade monitoring.\n\nTickets: $25
LOCATION:UTB/TSC Main Campus-Science\, Engineering and Tech. Building-Lecture Hall
UID:e.1828.2416
SEQUENCE:3
DTSTAMP:20260422T094316Z
URL:https://business.harlingen.com/events/details/spring-distinguished-lecture-series-challenges-to-conservation-of-the-natural-world-03-11-2010-2416
END:VEVENT

END:VCALENDAR
