BEGIN:VCALENDAR
VERSION:2.0
PRODID:-//ChamberMaster//Event Calendar 2.0//EN
METHOD:PUBLISH
X-PUBLISHED-TTL:P3D
REFRESH-INTERVAL:P3D
CALSCALE:GREGORIAN
BEGIN:VEVENT
DTSTART:20110514T160000Z
DTEND:20110514T200000Z
X-MICROSOFT-CDO-ALLDAYEVENT:FALSE
SUMMARY:Spring Spa Retreat
DESCRIPTION:Spring Spa Retreat\, refresh your look\, rejuvenate your skin\, revitalize your spirit. Please RSVP by May 11th call Norma Castillo\, 956-793-1393.
X-ALT-DESC;FMTTYPE=text/html:Spring Spa Retreat\, refresh your look\, rejuvenate your skin\, revitalize your spirit. Please RSVP by May 11th call Norma Castillo\, 956-793-1393.
LOCATION:
UID:e.1828.3039
SEQUENCE:3
DTSTAMP:20260421T093941Z
URL:https://business.harlingen.com/events/details/spring-spa-retreat-05-14-2011-3039
END:VEVENT

END:VCALENDAR
