BEGIN:VCALENDAR
VERSION:2.0
PRODID:-//ChamberMaster//Event Calendar 2.0//EN
METHOD:PUBLISH
X-PUBLISHED-TTL:P3D
REFRESH-INTERVAL:P3D
CALSCALE:GREGORIAN
BEGIN:VEVENT
DTSTART:20101205T200000Z
DTEND:20101205T220000Z
X-MICROSOFT-CDO-ALLDAYEVENT:FALSE
SUMMARY:Square Dance For The Needy
DESCRIPTION:Come and join us for some FUN SQUARE DANCING.  For more information please call\, Rida Penney Activity Director @ 956-428-7116.
X-ALT-DESC;FMTTYPE=text/html:Come and join us for some FUN SQUARE DANCING.  For more information please call\, Rida Penney Activity Director @ 956-428-7116. 
LOCATION:
UID:e.1828.2835
SEQUENCE:3
DTSTAMP:20260421T185939Z
URL:https://business.harlingen.com/events/details/square-dance-for-the-needy-12-05-2010-2835
END:VEVENT

END:VCALENDAR
