BEGIN:VCALENDAR
VERSION:2.0
PRODID:-//ChamberMaster//Event Calendar 2.0//EN
METHOD:PUBLISH
X-PUBLISHED-TTL:P3D
REFRESH-INTERVAL:P3D
CALSCALE:GREGORIAN
BEGIN:VEVENT
DTSTART:20101231T010000Z
DTEND:20101230T070000Z
X-MICROSOFT-CDO-ALLDAYEVENT:FALSE
SUMMARY:SQUARE DANCE WITH MIKE KELLY/SHIRLEY HEINY
DESCRIPTION:For more information please call Rida Penney at 956-428-7116.
X-ALT-DESC;FMTTYPE=text/html:For more information please call Rida Penney at 956-428-7116.
LOCATION:
UID:e.1828.2855
SEQUENCE:3
DTSTAMP:20260421T171452Z
URL:https://business.harlingen.com/events/details/square-dance-with-mike-kelly-shirley-heiny-12-30-2010-2855
END:VEVENT

END:VCALENDAR
