BEGIN:VCALENDAR
VERSION:2.0
PRODID:-//ChamberMaster//Event Calendar 2.0//EN
METHOD:PUBLISH
X-PUBLISHED-TTL:P3D
REFRESH-INTERVAL:P3D
CALSCALE:GREGORIAN
BEGIN:VEVENT
DTSTART:20120312T150000Z
DTEND:20120316T213000Z
X-MICROSOFT-CDO-ALLDAYEVENT:FALSE
SUMMARY:St Patrick's Gone Green Desserts
DESCRIPTION:Come meet us at the end of the Rainbow. Savor your choice of three decedent desserts to mark our St. Patrick Day event. Enjoy Pistachio Pudding/with Vanilla Wafer\, Perfect Pistachio Cake\, or a LIme Green Sherbet Smoothie. Get $1.00 off any dessert.
X-ALT-DESC;FMTTYPE=text/html:Come meet us at the end of the Rainbow. Savor your choice of three decedent desserts to mark our St. Patrick Day event. Enjoy Pistachio Pudding/with Vanilla Wafer\, Perfect Pistachio Cake\, or a LIme Green Sherbet Smoothie. Get $1.00 off any dessert.
LOCATION:
UID:e.1828.3446
SEQUENCE:3
DTSTAMP:20260420T181751Z
URL:https://business.harlingen.com/events/details/st-patrick-s-gone-green-desserts-03-12-2012-3446
END:VEVENT

END:VCALENDAR
