BEGIN:VCALENDAR
VERSION:2.0
PRODID:-//ChamberMaster//Event Calendar 2.0//EN
METHOD:PUBLISH
X-PUBLISHED-TTL:P3D
REFRESH-INTERVAL:P3D
CALSCALE:GREGORIAN
BEGIN:VEVENT
DTSTART:20100305T233000Z
DTEND:20100306T023000Z
X-MICROSOFT-CDO-ALLDAYEVENT:FALSE
SUMMARY:St. Paul Academy Hosts St. Paul Family Fest
DESCRIPTION:A night of family fun!  Games\, Food\, Music & more.
X-ALT-DESC;FMTTYPE=text/html:A night of family fun!  Games\, Food\, Music & more.
LOCATION:
UID:e.1828.2426
SEQUENCE:3
DTSTAMP:20260422T081103Z
URL:https://business.harlingen.com/events/details/st-paul-academy-hosts-st-paul-family-fest-03-05-2010-2426
END:VEVENT

END:VCALENDAR
