BEGIN:VCALENDAR
VERSION:2.0
PRODID:-//ChamberMaster//Event Calendar 2.0//EN
METHOD:PUBLISH
X-PUBLISHED-TTL:P3D
REFRESH-INTERVAL:P3D
CALSCALE:GREGORIAN
BEGIN:VEVENT
DTSTART:20120322T130000Z
DTEND:20120322T230000Z
X-MICROSOFT-CDO-ALLDAYEVENT:FALSE
SUMMARY:St. Paul Academy Open House
DESCRIPTION:The St. Paul Academy is opening its doors to visitors interested in enrolling for the 2012-2013 school year. Visitors will be given a guided tour and an opportunity to see teachers and students engaged in the very active business of learning. Come see why children and families love St. Paul Academy!\nEvery Thursday through April 26\n8:00 a.m. to 6:00 p.m.\n\nPre-Kindergarten through 8th Grade.  For details call Julie Walther\, Principal at 423-3926 or go to www.stpaultexas.com.
X-ALT-DESC;FMTTYPE=text/html:The St. Paul Academy is opening its doors to visitors interested in enrolling for the 2012-2013 school year. Visitors will be given a guided tour and an opportunity to see teachers and students engaged in the very active business of learning. Come see why children and families love St. Paul Academy!\nEvery Thursday through April 26\n8:00 a.m. to 6:00 p.m.\n\nPre-Kindergarten through 8th Grade.  For details call Julie Walther\, Principal at 423-3926 or go to www.stpaultexas.com.     \n\n\n
LOCATION:
UID:e.1828.3470
SEQUENCE:3
DTSTAMP:20260420T194900Z
URL:https://business.harlingen.com/events/details/st-paul-academy-open-house-03-22-2012-3470
END:VEVENT

END:VCALENDAR
