BEGIN:VCALENDAR
VERSION:2.0
PRODID:-//ChamberMaster//Event Calendar 2.0//EN
METHOD:PUBLISH
X-PUBLISHED-TTL:P3D
REFRESH-INTERVAL:P3D
CALSCALE:GREGORIAN
BEGIN:VEVENT
DTSTART:20110516T223000Z
DTEND:20110516T223000Z
X-MICROSOFT-CDO-ALLDAYEVENT:FALSE
SUMMARY:St. Paul Academy Ribbon Cutting & Courtyard Dedication
DESCRIPTION:Join St. Paul Academy as they host a dedication ceremony for their new courtyard along with a ribbon cutting ceremony. Refreshments will be available and everyone is invited to browse the Scholastic book fair after the ceremony.
X-ALT-DESC;FMTTYPE=text/html:Join St. Paul Academy as they host a dedication ceremony for their new courtyard along with a ribbon cutting ceremony. Refreshments will be available and everyone is invited to browse the Scholastic book fair after the ceremony. \n
LOCATION:
UID:e.1828.3043
SEQUENCE:3
DTSTAMP:20260421T111123Z
URL:https://business.harlingen.com/events/details/st-paul-academy-ribbon-cutting-courtyard-dedication-05-16-2011-3043
END:VEVENT

END:VCALENDAR
