BEGIN:VCALENDAR
VERSION:2.0
PRODID:-//ChamberMaster//Event Calendar 2.0//EN
METHOD:PUBLISH
X-PUBLISHED-TTL:P3D
REFRESH-INTERVAL:P3D
CALSCALE:GREGORIAN
BEGIN:VEVENT
DTSTART:20100220T140000Z
DTEND:20100220T140000Z
X-MICROSOFT-CDO-ALLDAYEVENT:FALSE
SUMMARY:St. Paul Lutheran Church Centennial 10K Run
DESCRIPTION:St. Paul Centennial 10K Run and 1 mile blast/walk will take place on Saturday\, February 20\, 2010.  The race will start and end at St. Paul Lutheran Church.  Start time 8:00 am.  10K Entry Fee $15.00\, Student Fee $10.00 with ID.  1 Mile Blast/Walk Fee $10.00.  Add $3.00 to register day of race.  For registration info contact: Jennifer Loewe  at St. Paul 425-6330 or cell 742-9583.  Email jenniferloewe@saintpaulharlingen.com
X-ALT-DESC;FMTTYPE=text/html:St. Paul Centennial 10K Run and 1 mile blast/walk will take place on Saturday\, February 20\, 2010.  The race will start and end at St. Paul Lutheran Church.  Start time 8:00 am.  10K Entry Fee $15.00\, Student Fee $10.00 with ID.  1 Mile Blast/Walk Fee $10.00.  Add $3.00 to register day of race.  For registration info contact: Jennifer Loewe  at St. Paul 425-6330 or cell 742-9583.  Email jenniferloewe@saintpaulharlingen.com\n
LOCATION:
UID:e.1828.2314
SEQUENCE:3
DTSTAMP:20260422T112003Z
URL:https://business.harlingen.com/events/details/st-paul-lutheran-church-centennial-10k-run-02-20-2010-2314
END:VEVENT

END:VCALENDAR
