BEGIN:VCALENDAR
VERSION:2.0
PRODID:-//ChamberMaster//Event Calendar 2.0//EN
METHOD:PUBLISH
X-PUBLISHED-TTL:P3D
REFRESH-INTERVAL:P3D
CALSCALE:GREGORIAN
BEGIN:VEVENT
DTSTART:20100213T010000Z
DTEND:20100212T060000Z
X-MICROSOFT-CDO-ALLDAYEVENT:FALSE
SUMMARY:St. Valentine's Ocelot Gala
DESCRIPTION:Help protect America's little leopard from vanishing forever with an elegant night of dinner & dancing under the stars at the Inn at Chachalaca Bend on Friday\, February 12\, 2010 from 7:00 pm to 12:00 midnight.  For more information\, or an invitation to this gala\, please contact Rio Bravo Wildlife Institute at 956-504-9563.
X-ALT-DESC;FMTTYPE=text/html:Help protect America's little leopard from vanishing forever with an elegant night of dinner & dancing under the stars at the Inn at Chachalaca Bend on Friday\, February 12\, 2010 from 7:00 pm to 12:00 midnight.  For more information\, or an invitation to this gala\, please contact Rio Bravo Wildlife Institute at 956-504-9563.
LOCATION:
UID:e.1828.2260
SEQUENCE:3
DTSTAMP:20260422T093707Z
URL:https://business.harlingen.com/events/details/st-valentine-s-ocelot-gala-02-12-2010-2260
END:VEVENT

END:VCALENDAR
