BEGIN:VCALENDAR
VERSION:2.0
PRODID:-//ChamberMaster//Event Calendar 2.0//EN
METHOD:PUBLISH
X-PUBLISHED-TTL:P3D
REFRESH-INTERVAL:P3D
CALSCALE:GREGORIAN
BEGIN:VEVENT
DTSTART;VALUE=DATE:20100915
DTEND;VALUE=DATE:20100916
TRANSP:TRANSPARENT
X-MICROSOFT-CDO-ALLDAYEVENT:TRUE
SUMMARY:STARS Presents Martina McBride
DESCRIPTION:South Texas Academic Rising Scholars (STARS) is dedicated to providing successful futures for local students. STARS was established to offer South Texas students equal opportunity for advancement in higher education.  Scholarships provide deserving students the ability to achieve success at the college of their choice. For more information visit the STARS website\, or contact their corporate office at (956) 687-7751. In Harlingen\, contact Eddie Pedraza at (956) 423-2256.
X-ALT-DESC;FMTTYPE=text/html:South Texas Academic Rising Scholars (STARS) is dedicated to providing successful futures for local students. STARS was established to offer South Texas students equal opportunity for advancement in higher education.  Scholarships provide deserving students the ability to achieve success at the college of their choice. For more information visit the STARS website\, or contact their corporate office at (956) 687-7751. In Harlingen\, contact Eddie Pedraza at (956) 423-2256.\n
LOCATION:
UID:e.1828.2753
SEQUENCE:3
DTSTAMP:20260422T000814Z
URL:https://business.harlingen.com/events/details/stars-presents-martina-mcbride-09-15-2010-2753
END:VEVENT

END:VCALENDAR
