BEGIN:VCALENDAR
VERSION:2.0
PRODID:-//ChamberMaster//Event Calendar 2.0//EN
METHOD:PUBLISH
X-PUBLISHED-TTL:P3D
REFRESH-INTERVAL:P3D
CALSCALE:GREGORIAN
BEGIN:VEVENT
DTSTART;VALUE=DATE:20111103
DTEND;VALUE=DATE:20111105
TRANSP:TRANSPARENT
X-MICROSOFT-CDO-ALLDAYEVENT:TRUE
SUMMARY:State of the Workforce 2011 A Call to Action Conference
DESCRIPTION:State of the Workforce 2011: A Call to Action conference on\nNov. 3rd   hosted by Workforce Solutions and Workforce Solutions Cameron\, in collaboration with the RGV Partnership and RGV Development Council. \n\nIf you have not registered for the conference yet\, you may do so www.wfsolution.org\n \nWe look forward to seeing you at the State of the Workforce 2011: A Call to Action conference \non Nov. 3rd & 4th at South Padre Island\, TX!
X-ALT-DESC;FMTTYPE=text/html:State of the Workforce 2011: A Call to Action conference on\nNov. 3rd & 4th at South Padre Island\, TX\; hosted by Workforce Solutions and Workforce Solutions Cameron\, in collaboration with the RGV Partnership and RGV Development Council. \n\nIf you have not registered for the conference yet\, you may do so www.wfsolution.org\n \nWe look forward to seeing you at the State of the Workforce 2011: A Call to Action conference \non Nov. 3rd & 4th at South Padre Island\, TX!\n\n
LOCATION:
UID:e.1828.3189
SEQUENCE:3
DTSTAMP:20260421T004233Z
URL:https://business.harlingen.com/events/details/state-of-the-workforce-2011-a-call-to-action-conference-11-03-2011-3189
END:VEVENT

END:VCALENDAR
