BEGIN:VCALENDAR
VERSION:2.0
PRODID:-//ChamberMaster//Event Calendar 2.0//EN
METHOD:PUBLISH
X-PUBLISHED-TTL:P3D
REFRESH-INTERVAL:P3D
CALSCALE:GREGORIAN
BEGIN:VEVENT
DTSTART:20110914T223000Z
DTEND:20110914T223000Z
X-MICROSOFT-CDO-ALLDAYEVENT:FALSE
SUMMARY:State Representative J.M. Lozano
DESCRIPTION:J.M. Lozano requests the honor of your presence at the ribbon cutting ceremony of his new office serving Cameron and Willacy Counties. Please RSVP to Raina Ybarra Raina.Ybarra@house.state.tx.us or call 361-595-1550.
X-ALT-DESC;FMTTYPE=text/html:J.M. Lozano requests the honor of your presence at the ribbon cutting ceremony of his new office serving Cameron and Willacy Counties. Please RSVP to Raina Ybarra Raina.Ybarra@house.state.tx.us or call 361-595-1550. \n
LOCATION:
UID:e.1828.3165
SEQUENCE:3
DTSTAMP:20260421T033902Z
URL:https://business.harlingen.com/events/details/state-representative-j-m-lozano-09-14-2011-3165
END:VEVENT

END:VCALENDAR
