BEGIN:VCALENDAR
VERSION:2.0
PRODID:-//ChamberMaster//Event Calendar 2.0//EN
METHOD:PUBLISH
X-PUBLISHED-TTL:P3D
REFRESH-INTERVAL:P3D
CALSCALE:GREGORIAN
BEGIN:VEVENT
DTSTART:20111119T220000Z
DTEND:20111120T030000Z
X-MICROSOFT-CDO-ALLDAYEVENT:FALSE
SUMMARY:Stephanie's Salon & Spa Open House
DESCRIPTION:The holidays are just around the corner and Stephanie's Salon & Spa would like to show their appreciation to their loyal clients and guests.  They invite you to stop by for an afternoon of great food\, cold drinks and good friends.  Everyone will be entered for great prizes!
X-ALT-DESC;FMTTYPE=text/html:The holidays are just around the corner and Stephanie's Salon & Spa would like to show their appreciation to their loyal clients and guests.  They invite you to stop by for an afternoon of great food\, cold drinks and good friends.  Everyone will be entered for great prizes!\n\n
LOCATION:
UID:e.1828.3213
SEQUENCE:3
DTSTAMP:20260421T021134Z
URL:https://business.harlingen.com/events/details/stephanie-s-salon-spa-open-house-11-19-2011-3213
END:VEVENT

END:VCALENDAR
