BEGIN:VCALENDAR
VERSION:2.0
PRODID:-//ChamberMaster//Event Calendar 2.0//EN
METHOD:PUBLISH
X-PUBLISHED-TTL:P3D
REFRESH-INTERVAL:P3D
CALSCALE:GREGORIAN
BEGIN:VEVENT
DTSTART:20100605T150000Z
DTEND:20100605T150000Z
X-MICROSOFT-CDO-ALLDAYEVENT:FALSE
SUMMARY:Stillman Historic Garden Planting Party
DESCRIPTION:Join the BHA in the reconstruction and restoration of the historic Kitchen Yard at the Stillman House Museum! The Kitchen Yard of the Stillman House Museum was an area where decorative\, yet edible items were grown for the family. It also would have been the best location for an herb garden which would supply the kitchen with spices and the home with medicinal plants. The kitchen yard was originally the very heart of the operations of the household and was always active and filled with sounds and smells. Come take part in this fantastic event!
X-ALT-DESC;FMTTYPE=text/html:Join the BHA in the reconstruction and restoration of the historic Kitchen Yard at the Stillman House Museum! The Kitchen Yard of the Stillman House Museum was an area where decorative\, yet edible items were grown for the family. It also would have been the best location for an herb garden which would supply the kitchen with spices and the home with medicinal plants. The kitchen yard was originally the very heart of the operations of the household and was always active and filled with sounds and smells. Come take part in this fantastic event!
LOCATION:Stillman House Museum
UID:e.1828.2532
SEQUENCE:3
DTSTAMP:20260422T031501Z
URL:https://business.harlingen.com/events/details/stillman-historic-garden-planting-party-06-05-2010-2532
END:VEVENT

END:VCALENDAR
