BEGIN:VCALENDAR
VERSION:2.0
PRODID:-//ChamberMaster//Event Calendar 2.0//EN
METHOD:PUBLISH
X-PUBLISHED-TTL:P3D
REFRESH-INTERVAL:P3D
CALSCALE:GREGORIAN
BEGIN:VEVENT
DTSTART:20120616T140000Z
DTEND:20120616T220000Z
X-MICROSOFT-CDO-ALLDAYEVENT:FALSE
SUMMARY:"Store for American Heroes"
DESCRIPTION:The "Store for American Heroes" celebrates 66 years in business tomorrow! Stop by for refreshments & in-store specials! Enjoy a trip down memory lane!
X-ALT-DESC;FMTTYPE=text/html:The "Store for American Heroes" celebrates 66 years in business tomorrow! Stop by for refreshments & in-store specials! Enjoy a trip down memory lane! 
LOCATION:
UID:e.1828.3854
SEQUENCE:3
DTSTAMP:20260420T145415Z
URL:https://business.harlingen.com/events/details/store-for-american-heroes-06-16-2012-3854
END:VEVENT

END:VCALENDAR
