BEGIN:VCALENDAR
VERSION:2.0
PRODID:-//ChamberMaster//Event Calendar 2.0//EN
METHOD:PUBLISH
X-PUBLISHED-TTL:P3D
REFRESH-INTERVAL:P3D
CALSCALE:GREGORIAN
BEGIN:VEVENT
DTSTART:20121020T170000Z
DTEND:20121020T220000Z
X-MICROSOFT-CDO-ALLDAYEVENT:FALSE
SUMMARY:Storm-Fury/ Storm Chaser
DESCRIPTION:Storm-Fury meet Tornado Tim Storm Chaser! Plan the afternoon with Activities\, Exhabits\, Make A Video!\nStorm Chaser ID! Admission $2.00 per person. website www.stormfury.org \n\nSponsors: Time Warner Cable\, Texas State Technical College.
X-ALT-DESC;FMTTYPE=text/html:Storm-Fury meet Tornado Tim Storm Chaser! Plan the afternoon with Activities\, Exhabits\, Make A Video!\nStorm Chaser ID! Admission $2.00 per person. website www.stormfury.org \n\nSponsors: Time Warner Cable\, Texas State Technical College.
LOCATION:
UID:e.1828.4040
SEQUENCE:3
DTSTAMP:20260420T085505Z
URL:https://business.harlingen.com/events/details/storm-fury-storm-chaser-10-20-2012-4040
END:VEVENT

END:VCALENDAR
