BEGIN:VCALENDAR
VERSION:2.0
PRODID:-//ChamberMaster//Event Calendar 2.0//EN
METHOD:PUBLISH
X-PUBLISHED-TTL:P3D
REFRESH-INTERVAL:P3D
CALSCALE:GREGORIAN
BEGIN:VEVENT
DTSTART:20100522T120000Z
DTEND:20100522T160000Z
X-MICROSOFT-CDO-ALLDAYEVENT:FALSE
SUMMARY:Stroke Awareness Community Health Fair
DESCRIPTION:May is National Stroke Awareness Month\,\nand at Valley Baptist\, we are committed\nto educating our community and assisting\nyou in taking the first steps toward better\nhealth care. Each year\, STROKE strikes\napproximately 795\,000 Americans – killing\n144\,000 and forever changing the lives of\nmany who survive.\nPlease join us for this FREE event that will\nalso feature presentations by two outstanding\nPhysicians (Neurologist & Neurosurgeon) on\nthe signs and symptoms\, and the measures\nyou can take to prevent the onset of a stroke.\nYou will have the opportunity to ask questions\nafter each of the following sessions:\n* Free for the first 100 people. Additional low cost screenings will be available.VBMC-Harlingen and VBMC-Brownsville are the only two hospitals in the Rio Grande Valley\nto be certified as ''Primary Stroke Centers'' by the national accrediting organization for health\ncare facilities -- the Joint Commission.\nFREE & LOW COST SCREENINGS\nStroke Screening • Lipid Panel and Blood Glucose Screening*\nBlood Pressure Check • Diabetes Risk Assessment.  For more information\, please call 956-389-1950.
X-ALT-DESC;FMTTYPE=text/html:May is National Stroke Awareness Month\,\nand at Valley Baptist\, we are committed\nto educating our community and assisting\nyou in taking the first steps toward better\nhealth care. Each year\, STROKE strikes\napproximately 795\,000 Americans – killing\n144\,000 and forever changing the lives of\nmany who survive.\nPlease join us for this FREE event that will\nalso feature presentations by two outstanding\nPhysicians (Neurologist & Neurosurgeon) on\nthe signs and symptoms\, and the measures\nyou can take to prevent the onset of a stroke.\nYou will have the opportunity to ask questions\nafter each of the following sessions:\n* Free for the first 100 people. Additional low cost screenings will be available.VBMC-Harlingen and VBMC-Brownsville are the only two hospitals in the Rio Grande Valley\nto be certified as ''Primary Stroke Centers'' by the national accrediting organization for health\ncare facilities -- the Joint Commission.\nFREE & LOW COST SCREENINGS\nStroke Screening • Lipid Panel and Blood Glucose Screening*\nBlood Pressure Check • Diabetes Risk Assessment.  For more information\, please call 956-389-1950.\n
LOCATION:Woodward Conference Center South Tower Entrance
UID:e.1828.2535
SEQUENCE:3
DTSTAMP:20260422T051015Z
URL:https://business.harlingen.com/events/details/stroke-awareness-community-health-fair-05-22-2010-2535
END:VEVENT

END:VCALENDAR
